BEGIN:VCALENDAR
VERSION:2.0
PRODID:-//eventon.com NONSGML v1.0//EN
CALSCALE:GREGORIAN
METHOD:PUBLISH
BEGIN:VEVENT
UID:69eb5c15b1796
DTSTAMP:20260424T120333Z
DTSTART:21170709
DTEND:21170710
LOCATION:
SUMMARY:Nunavut Day      
DESCRIPTION:Come celebrate our culture and heritage! There will be so much 
 to do\,  see and taste. Fashion show\,  live barbecue and much more at the 
 Community Hall. Want to stay at home but be involved? Participate in the ra
 dio game shows. You cannot afford to miss this event.\nhttps://clyderiver.c
 a/events/nunavut-day?lang=fr&var=ri-97.l-L1
URL:https://clyderiver.ca/events/nunavut-day?lang=fr&var=ri-97.l-L1
END:VEVENT
END:VCALENDAR