BEGIN:VCALENDAR
VERSION:2.0
PRODID:-//eventon.com NONSGML v1.0//EN
CALSCALE:GREGORIAN
METHOD:PUBLISH
BEGIN:VEVENT
UID:69e92d5ece36d
DTSTAMP:20260422T201942Z
DTSTART:20200709
DTEND:20200710
LOCATION:
SUMMARY:Nunavut Day      
DESCRIPTION:Come celebrate our culture and heritage! There will be so much 
 to do\,  see and taste. Fashion show\,  live barbecue and much more at the 
 Community Hall. Want to stay at home but be involved? Participate in the ra
 dio game shows. You cannot afford to miss this event.\nhttps://clyderiver.c
 a/events/nunavut-day
URL:https://clyderiver.ca/events/nunavut-day
END:VEVENT
END:VCALENDAR