BEGIN:VCALENDAR
VERSION:2.0
PRODID:-//eventon.com NONSGML v1.0//EN
CALSCALE:GREGORIAN
METHOD:PUBLISH
BEGIN:VEVENT
UID:69e5dc6c3868b
DTSTAMP:20260420T075732Z
DTSTART:21160702
DTEND:21160703
LOCATION:
SUMMARY:Hamlet Day
DESCRIPTION:Another day of celebration! Participate in our radio game shows
 . Try our various competitions and Inuit games. Lots of prizes to be won. &
 nbsp;\nhttps://clyderiver.ca/events/hamlet-day?lang=fr&var=ri-96.l-L1
URL:https://clyderiver.ca/events/hamlet-day?lang=fr&var=ri-96.l-L1
END:VEVENT
END:VCALENDAR